BEGIN:VCALENDAR
VERSION:2.0
PRODID:-//wp-events-plugin.com//7.2.3.1//EN
TZID:Europe/Paris
X-WR-TIMEZONE:Europe/Paris
BEGIN:VEVENT
UID:108@eschaudanse.fr
DTSTART;TZID=Europe/Paris:20240615T133000
DTEND;TZID=Europe/Paris:20240615T164500
DTSTAMP:20240601T144548Z
URL:https://www.eschaudanse.fr/events/stage-decouverte-de-la-danse-sportiv
 e/
SUMMARY:Stage découverte de la danse sportive
DESCRIPTION:\nTANGO\n\n\n\nMouvement staccato\, 5-step developpé\, link\, 
 floorcraft13:30 à 15:00\n\n\n\nQUICKSTEP\n\n\n\nMouvement pétillant\, sc
 atter chasse\, hoips15:15 à 16:45\n\n\n\n\n\n\n\nl’inscription se fait 
 le jour même sur place\n
ATTACH;FMTTYPE=image/jpeg:https://www.eschaudanse.fr/wp-content/uploads/20
 24/06/Stage-Tango-Quickstep-1.webp
CATEGORIES:Public
LOCATION:Centre Camille Claus\, salle F\, 9 rue de la place des fêtes\, ES
 CHAU\, 67114\, France
X-APPLE-STRUCTURED-LOCATION;VALUE=URI;X-ADDRESS=9 rue de la place des fête
 s\, ESCHAU\, 67114\, France;X-APPLE-RADIUS=100;X-TITLE=Centre Camille Clau
 s\, salle F:geo:0,0
END:VEVENT
BEGIN:VTIMEZONE
TZID:Europe/Paris
X-LIC-LOCATION:Europe/Paris
BEGIN:DAYLIGHT
DTSTART:20240331T030000
TZOFFSETFROM:+0100
TZOFFSETTO:+0200
TZNAME:CEST
END:DAYLIGHT
END:VTIMEZONE
END:VCALENDAR