BEGIN:VCALENDAR
VERSION:2.0
PRODID:-//wp-events-plugin.com//7.2.3.1//EN
TZID:Europe/Paris
X-WR-TIMEZONE:Europe/Paris
BEGIN:VEVENT
UID:118@eschaudanse.fr
DTSTART;TZID=Europe/Paris:20251006T201500
DTEND;TZID=Europe/Paris:20260112T214500
DTSTAMP:20250916T113840Z
URL:https://www.eschaudanse.fr/events/inscription-valse-viennoise/
SUMMARY:Valse viennoise à Saint Guillaume
DESCRIPTION:\nBal Viennois du Nouvel An\n\n\n\nCours de préparation à la 
 valse viennoise en vue du "Bal Viennois du Nouvel An" le 17 janvier 2026 
 à l’église Saint Guillaume de Strasbourg.\n\n\n\n\nDurée des cours&nb
 sp\;&nbsp\;&nbsp\;&nbsp\;1h30\n\n\n\nTarif&nbsp\; &nbsp\;&nbsp\;&nbsp\;&nb
 sp\;&nbsp\;&nbsp\;&nbsp\;&nbsp\;&nbsp\;&nbsp\;&nbsp\;&nbsp\;&nbsp\;&nbsp\;
 &nbsp\;&nbsp\;&nbsp\;&nbsp\;&nbsp\;&nbsp\;&nbsp\;  15 euros par personne p
 ar cours&nbsp\;&nbsp\;&nbsp\;&nbsp\;&nbsp\;&nbsp\;&nbsp\;\n\n\n\n10 cours 
 du 6 octobre au 12 janvier&nbsp\;&nbsp\;&nbsp\;\n\n\n\n\nLes cours de vals
 e viennoise sont dispensés par Nicole et Bernard BURGWAL.\n\n\n\nTel: 06 
 70 22 77 36\n\n\n\nEmail : burgwal.nicole67@gmail.com\n\n\n\nInstructions\
 n\n\n\n\nSi vous recherchez un-e cavalier.ère\, veuillez l’ajouter en c
 ommentaire.\n\n\n\n\n\n
ATTACH;FMTTYPE=image/jpeg:https://www.eschaudanse.fr/wp-content/uploads/20
 25/08/Bal-Viennois-1.webp
CATEGORIES:Public
LOCATION:Saint-Guillaume\, 1\, rue Munch\, Strasbourg\, 67000\, Bas-rhin\, 
 France
X-APPLE-STRUCTURED-LOCATION;VALUE=URI;X-ADDRESS=1\, rue Munch\, Strasbourg\
 , 67000\, Bas-rhin\, France;X-APPLE-RADIUS=100;X-TITLE=Saint-Guillaume:geo
 :0,0
END:VEVENT
BEGIN:VTIMEZONE
TZID:Europe/Paris
X-LIC-LOCATION:Europe/Paris
BEGIN:DAYLIGHT
DTSTART:20250330T030000
TZOFFSETFROM:+0100
TZOFFSETTO:+0200
TZNAME:CEST
END:DAYLIGHT
BEGIN:STANDARD
DTSTART:20251026T020000
TZOFFSETFROM:+0200
TZOFFSETTO:+0100
TZNAME:CET
END:STANDARD
END:VTIMEZONE
END:VCALENDAR